519.058083896737
0
0
-518.994026116067
172045.09621213
4538752.53701579
